BEGIN:VCALENDAR
VERSION:2.0
PRODID:-//Eventin//Event Calendar//EN
CALSCALE:GREGORIAN
METHOD:PUBLISH
BEGIN:VEVENT
UID:886651e0e99e764d9cd46290688c6f83@jfsutah.org
SUMMARY:3rd Annual Ice Cream Social
DESCRIPTION:Get the Scoop on JFS!\nEnjoy a refreshing ice cream treat from
  Rockwell Ice Cream Company at our 3rd Annual Ice Cream Social & Open H
 ouse!\nLearn about our programs\, take a tour\, and engage in conversations
  with our Executive Director\, Board\, Staff and Volunteers. It's the perfe
 ct opportunity to catch up with JFS friends and make new ones!\nEmail Wendy
  Vurik\, Development & Marketing Manager\, for more information.
LOCATION:Salt Lake City office
DTSTAMP:20260421T131602Z
DTSTART:20260514T210000Z
DTEND:20260514T223000Z
END:VEVENT
END:VCALENDAR
