BEGIN:VCALENDAR
VERSION:2.0
PRODID:-//Eventin//Event Calendar//EN
CALSCALE:GREGORIAN
METHOD:PUBLISH
BEGIN:VEVENT
UID:8bd1c7819ffa9753bbdac318ea4fcc85@jfsutah.org
SUMMARY:Community Partner Open House
DESCRIPTION:Jewish Family Service warmly invites our community partners to 
 an Open House on Tuesday\, April 21\, from 3:00–5:00pm.\nJoin us to:\n\n
 Meet our team and learn about our programs\nExplore the services and resour
 ces available to those we serve\nDiscover ways to collaborate and strengthe
 n community support\n\nLight refreshments will be provided. We look forward
  to connecting with you!\nEmail Wendy Vurik\, Development & Marketing Manag
 er\, for more information.
LOCATION:Salt Lake City office
DTSTAMP:20260421T114641Z
DTSTART:20260421T210000Z
DTEND:20260421T230000Z
END:VEVENT
END:VCALENDAR
