BEGIN:VCALENDAR
VERSION:2.0
PRODID:-//Eventin//Event Calendar//EN
CALSCALE:GREGORIAN
METHOD:PUBLISH
BEGIN:VEVENT
UID:1190f17d38635f4c3e5c575a86dbea7d@jfsutah.org
SUMMARY:Exploring Creativity
DESCRIPTION:Older adults who engage in creativity have better emotional\, c
 ognitive\, and physical health. In this group for adults 55+\, we introduce
  and participate in a different form of art each month. This class is held 
 virtually every Wednesday from 10:30 to 11:30 am. No art experience necessa
 ry.\nFor more information\, contact Emily Christensen.
LOCATION:Online
DTSTAMP:20260421T114751Z
DTSTART:20260422T160000Z
DTEND:20260507T180000Z
END:VEVENT
END:VCALENDAR
