BEGIN:VCALENDAR
VERSION:2.0
PRODID:-//Eventin//Event Calendar//EN
CALSCALE:GREGORIAN
METHOD:PUBLISH
BEGIN:VEVENT
UID:38b74edb6141187b69b75fc199deda24@jfsutah.org
SUMMARY:Gleeful Choir
DESCRIPTION:
LOCATION:Online
DTSTAMP:20260421T131115Z
DTSTART:20260514T190000Z
DTEND:20260514T203000Z
END:VEVENT
END:VCALENDAR
