BEGIN:VCALENDAR
VERSION:2.0
PRODID:-//Eventin//Event Calendar//EN
CALSCALE:GREGORIAN
METHOD:PUBLISH
BEGIN:VEVENT
UID:35c3a74cdd2c1abc8a31aadd45b07e53@jfsutah.org
SUMMARY:Gleeful Choir
DESCRIPTION:
LOCATION:Online
DTSTAMP:20260421T132756Z
DTSTART:20260521T190000Z
DTEND:20260521T203000Z
END:VEVENT
END:VCALENDAR
