BEGIN:VCALENDAR
VERSION:2.0
PRODID:-//Eventin//Event Calendar//EN
CALSCALE:GREGORIAN
METHOD:PUBLISH
BEGIN:VEVENT
UID:d44de58dde913d1253c7d7c3aaad3c0c@jfsutah.org
SUMMARY:Gleeful Choir
DESCRIPTION:
LOCATION:Online
DTSTAMP:20260421T132210Z
DTSTART:20260528T190000Z
DTEND:20260528T203000Z
END:VEVENT
END:VCALENDAR
