BEGIN:VCALENDAR
VERSION:2.0
PRODID:-//Eventin//Event Calendar//EN
CALSCALE:GREGORIAN
METHOD:PUBLISH
BEGIN:VEVENT
UID:2019a305f134b42d83a53dd3720c2b62@jfsutah.org
SUMMARY:Gleeful Choir
DESCRIPTION:
LOCATION:Online
DTSTAMP:20260421T145410Z
DTSTART:20260604T190000Z
DTEND:20260604T203000Z
END:VEVENT
END:VCALENDAR
