BEGIN:VCALENDAR
VERSION:2.0
PRODID:-//Eventin//Event Calendar//EN
CALSCALE:GREGORIAN
METHOD:PUBLISH
BEGIN:VEVENT
UID:11642e87fb786de1c73e10efd6ceddc4@jfsutah.org
SUMMARY:Gleeful Choir
DESCRIPTION:
LOCATION:Online
DTSTAMP:20260421T132216Z
DTSTART:20260611T190000Z
DTEND:20260611T203000Z
END:VEVENT
END:VCALENDAR
