BEGIN:VCALENDAR
VERSION:2.0
PRODID:-//Eventin//Event Calendar//EN
CALSCALE:GREGORIAN
METHOD:PUBLISH
BEGIN:VEVENT
UID:81854051384831db47375ebaed4b6b7c@jfsutah.org
SUMMARY:Gleeful Choir
DESCRIPTION:
LOCATION:Online
DTSTAMP:20260421T132049Z
DTSTART:20260618T190000Z
DTEND:20260618T203000Z
END:VEVENT
END:VCALENDAR
